BEGIN:VCALENDAR
VERSION:2.0
PRODID:-//ChamberMaster//Event Calendar 2.0//EN
METHOD:PUBLISH
X-PUBLISHED-TTL:P3D
REFRESH-INTERVAL:P3D
CALSCALE:GREGORIAN
BEGIN:VEVENT
DTSTART:20260501T230000Z
DTEND:20260502T010000Z
X-MICROSOFT-CDO-ALLDAYEVENT:FALSE
SUMMARY:Todd Oliver and Irving the Talking Dog
DESCRIPTION:Have you ever met a talking dog\, a real talking dog? Get ready\, because  you are going to meet the funniest comedian on 4 legs!\n\n"Irving"\, with a little help from his friend Todd Oliver\, is going to talk up a storm. \n\nIf you ever wondered how a dog looks at life\, this little home-raised companion is going to give it to you straight from the dog's mouth. He won't mince words\, and if he does\, it's Todds' fault anyways (he's a ventriloquist).\n\nPET SUPPLIES DRIVE\n\nDoors to the lobby open at 6:00pm. Please bring a donation of new and unopened pet supplies for Livingston County Animal Shelter (suggestions: unopened dog / cat food and treats\, new toys\, leashes\, collars\, harnesses\, cat litter\, small animal bedding).\n\nBIO\n\nTodd Oliver grew up loving dogs\, ventriloquism\, music and magic. As a young boy he studied piano\, guitar\, voice\, and the variety arts. Along the way\, he created some wooden-headed characters and performed around the world. You'll also meet a bunny named Alice and 3 beautiful birds. \n\nTodd Oliver and Friends have been a feature on Late Show with David Letterman\, The Tonight Show with Jay Leno\, The Late Late Show with Craig Ferguson\, The Today Show\, a couple episodes of Walker Texas Ranger\, and in 2012 they were a top 4 finalist on America's Got Talent.\n\nA major draw for many years on Showboats in Branson MO\, and Nashville TN\, as well as other major entertainment venues\, Todd is now touring\, bringing his brand of clean family fun to towns across America.\n\nTodd promotes pet adoption\, spay and neuter\, and encourages young people to turn their talents into lifelong skills. In towns across America\, Todd visits schools\, inspiring young people with these timely and important messages.\n\nThe goal is making families laugh together with original\, clean\, contemporary comedy and fun\, so sit back and get ready! You mig23ht even be on stage yourself   Todd turns audience members into real live Ventriloquist dummies! Either way\, you're going to have a doggone\, rocking good time with "Todd Oliver and Irving the Talking Dog".
X-ALT-DESC;FMTTYPE=text/html:<p><span style="background-color:transparent\; color:rgb(0\, 0\, 0)\; font-family:arial\,sans-serif\; font-size:11pt">Have you ever met a talking dog\, a real talking dog? Get ready\, because&nbsp\; you are going to meet the funniest comedian on 4 legs!</span></p>\n\n<p><span style="background-color:transparent\; color:rgb(0\, 0\, 0)\; font-family:arial\,sans-serif\; font-size:11pt">&quot\;Irving&quot\;\, with a little help from his friend Todd Oliver\, is going to talk up a storm.&nbsp\;</span></p>\n\n<p><span style="background-color:transparent\; color:rgb(0\, 0\, 0)\; font-family:arial\,sans-serif\; font-size:11pt">If you ever wondered how a dog looks at life\, this little home-raised companion is going to give it to you straight from the dog&#39\;s mouth. He won&#39\;t mince words\, and if he does\, it&#39\;s Todds&#39\; fault anyways (he&#39\;s a ventriloquist).</span></p>\n\n<p><strong>PET SUPPLIES DRIVE</strong></p>\n\n<p><span style="background-color:transparent\; color:rgb(0\, 0\, 0)\; font-family:arial\,sans-serif\; font-size:11pt">Doors to the lobby open at 6:00pm. Please bring a donation of new and unopened pet supplies for Livingston County Animal Shelter (suggestions: unopened dog / cat food and treats\, new toys\, leashes\, collars\, harnesses\, cat litter\, small animal bedding).</span></p>\n\n<p><strong>BIO</strong></p>\n\n<p><span style="background-color:transparent\; color:rgb(0\, 0\, 0)\; font-family:arial\,sans-serif\; font-size:11pt">Todd Oliver grew up loving dogs\, ventriloquism\, music and magic. As a young boy he studied piano\, guitar\, voice\, and the variety arts. Along the way\, he created some wooden-headed characters and performed around the world. You&#39\;ll also meet a bunny named Alice and 3 beautiful birds.&nbsp\;</span></p>\n\n<p><span style="background-color:transparent\; color:rgb(0\, 0\, 0)\; font-family:arial\,sans-serif\; font-size:11pt">Todd Oliver and Friends have been a feature on Late Show with David Letterman\, The Tonight Show with Jay Leno\, The Late Late Show with Craig Ferguson\, The Today Show\, a couple episodes of Walker Texas Ranger\, and in 2012 they were a top 4 finalist on America&#39\;s Got Talent.</span></p>\n\n<p><span style="background-color:transparent\; color:rgb(0\, 0\, 0)\; font-family:arial\,sans-serif\; font-size:11pt">A major draw for many years on Showboats in Branson MO\, and Nashville TN\, as well as other major entertainment venues\, Todd is now touring\, bringing his brand of clean family fun to towns across America.</span></p>\n\n<p><span style="background-color:transparent\; color:rgb(0\, 0\, 0)\; font-family:arial\,sans-serif\; font-size:11pt">Todd promotes pet adoption\, spay and neuter\, and encourages young people to turn their talents into lifelong skills. In towns across America\, Todd visits schools\, inspiring young people with these timely and important messages.</span></p>\n\n<p><span style="background-color:transparent\; color:rgb(0\, 0\, 0)\; font-family:arial\,sans-serif\; font-size:11pt">The goal is making families laugh together with original\, clean\, contemporary comedy and fun\, so sit back and get ready! You mig23ht even be on stage yourself &ndash\; Todd turns audience members into real live Ventriloquist dummies! Either way\, you&#39\;re going to have a doggone\, rocking good time with &quot\;Todd Oliver and Irving the Talking Dog&rdquo\;.</span></p>\n
LOCATION:Brighton Center for the Performing Arts 7878 Brighton Rd\, Brighton\, MI 48116 (on the campus of Brighton High School)
UID:e.2463.48892
SEQUENCE:3
DTSTAMP:20260420T091434Z
URL:https://business.brightoncoc.org/events/details/todd-oliver-and-irving-the-talking-dog-48892
END:VEVENT

END:VCALENDAR
