BEGIN:VCALENDAR
VERSION:2.0
PRODID:-//ChamberMaster//Event Calendar 2.0//EN
METHOD:PUBLISH
X-PUBLISHED-TTL:P3D
REFRESH-INTERVAL:P3D
CALSCALE:GREGORIAN
BEGIN:VEVENT
DTSTART:20221117T223000Z
DTEND:20221118T030000Z
X-MICROSOFT-CDO-ALLDAYEVENT:FALSE
SUMMARY:The Arc Livingston's Twenty-Ninth Annual Holiday Fashion Show
DESCRIPTION:Join us at Crystal Gardens on Thursday\, November 17th for the 29th Annual Holiday Fashion Show presented by The Arc Livingston.\n\n\n\nFor the past 28 years\, The Arc Livingston Holiday Fashion Show has grown into the premier event of the season\, with nearly 500 attendees coming together for a night to remember. The evening will include a fashion show celebrating people with disabilities along with special guests\, and an exciting live auction. We will also host a silent auction which will take place the evening of the event. After two years online\, we can't wait to see everyone in person!
X-ALT-DESC;FMTTYPE=text/html:<p>Join us at Crystal Gardens on Thursday\, November 17th for the 29th Annual Holiday Fashion Show presented by The Arc Livingston.<br />\n<br />\nFor the past 28 years\, The Arc Livingston Holiday Fashion Show has grown into the premier event of the season\, with nearly 500 attendees coming together for a night to remember. The evening will include a fashion show celebrating people with disabilities along with special guests\, and an exciting live auction. We will also host a silent auction which will take place the evening of the event. After two years online\, we can&rsquo\;t wait to see everyone in person!</p>\n\n<p>&nbsp\;</p>\n
LOCATION:Crystal Gardens Banquet Center 5768 East Grand River Howell\, MI 48843
UID:e.2463.37317
SEQUENCE:3
DTSTAMP:20260421T235300Z
URL:https://business.brightoncoc.org/events/details/the-arc-livingston-s-twenty-ninth-annual-holiday-fashion-show-37317
END:VEVENT

END:VCALENDAR
