BEGIN:VCALENDAR
VERSION:2.0
PRODID:-//ChamberMaster//Event Calendar 2.0//EN
METHOD:PUBLISH
X-PUBLISHED-TTL:P3D
REFRESH-INTERVAL:P3D
CALSCALE:GREGORIAN
BEGIN:VEVENT
DTSTART:20211228T140000Z
DTEND:20211228T150000Z
X-MICROSOFT-CDO-ALLDAYEVENT:FALSE
SUMMARY:Referral Network Group Meeting - Senior Leaders Network of Livingston County
DESCRIPTION:Senior Leaders Network of Livingston County\n\n\n\nThis group meets every other Tuesday morning at the GBACOC.  It is open to businesses that service the needs of senior citizens.  If you are interested in joining\, contact Debbie Johnson at djohnson1997@comcast.net.
X-ALT-DESC;FMTTYPE=text/html:<br />\n<strong><span style="font-family:arial\,sans-serif\;"><span style="font-size:12.0pt\;">Senior Leaders Network of Livingston County</span></span></strong><br />\n<br />\n<span style="font-family:arial\,sans-serif\;"><span style="font-size:10.0pt\;">This group meets every other Tuesday morning at the GBACOC.&nbsp\; It is open to businesses that service the needs of senior citizens.&nbsp\; If you are interested in joining\, contact Debbie Johnson at </span></span><a href="mailto:djohnson1997@comcast.net"><span style="font-family:arial\,sans-serif\;"><span style="font-size:10.0pt\;">djohnson1997@comcast.net</span></span></a><span style="font-family:arial\,sans-serif\;"><span style="font-size:10.0pt\;">.</span></span><br />\n&nbsp\;
LOCATION:
UID:e.2463.16721
SEQUENCE:3
DTSTAMP:20260421T232956Z
URL:https://business.brightoncoc.org/events/details/senior-resources-group-2-12-28-2021-16721
END:VEVENT

END:VCALENDAR
