BEGIN:VCALENDAR
VERSION:2.0
PRODID:-//ChamberMaster//Event Calendar 2.0//EN
METHOD:PUBLISH
X-PUBLISHED-TTL:P3D
REFRESH-INTERVAL:P3D
CALSCALE:GREGORIAN
BEGIN:VEVENT
DTSTART:20230221T163000Z
DTEND:20230221T180000Z
X-MICROSOFT-CDO-ALLDAYEVENT:FALSE
SUMMARY:Rising Professionals - Mindset and Motivation for a Magnificent Year
DESCRIPTION:Have you crushed it at preparing your goals and KPI's for the new year? Setting the goals can sometimes be the easy part - setting a course and plan to achieve those goals can be the hard part. Join us as we learn from Jason Tracey\, Business Coach and sales training enthusiast how to maintain a mindset that keeps you motivated and on track.\n\nBrenda Lindsay\, founder of Mind Transformations\, LLC.\, will share ways to get out of our heads\, stop procrastinating\, how to become more resilient in order to have more energy to reach goals\, and discuss a method that is scientifically proven to be beneficial for improving motivation
X-ALT-DESC;FMTTYPE=text/html:<span style="font-family:arial\;">Have you crushed it at preparing your goals and KPI&#39\;s for the new year? Setting the goals can sometimes be the easy part - setting a course and plan to achieve those goals can be the hard part. Join us as we learn from Jason Tracey\, Business Coach and sales training enthusiast how to maintain a mindset that keeps you motivated and on track.<br />\nBrenda Lindsay\, founder of Mind Transformations\, LLC.\,&nbsp\;</span><span style="font-family:times new roman\,serif\;"><span style="font-size:12.0pt\;">will share ways to get out of our heads\, stop procrastinating\, how to become more resilient in order to have more energy to reach goals\, and discuss a method that is scientifically proven to be beneficial for improving motivation</span></span>
LOCATION:Hartland Educational Support Services Center (HESSC) Hartland Board Room 9525 Highland Road Howell\, MI 48843
UID:e.2463.37793
SEQUENCE:3
DTSTAMP:20260422T151611Z
URL:https://business.brightoncoc.org/events/details/rising-professionals-mindset-and-motivation-for-a-magnificent-year-37793
END:VEVENT

END:VCALENDAR
