BEGIN:VCALENDAR
VERSION:2.0
PRODID:-//ChamberMaster//Event Calendar 2.0//EN
METHOD:PUBLISH
X-PUBLISHED-TTL:P3D
REFRESH-INTERVAL:P3D
CALSCALE:GREGORIAN
BEGIN:VEVENT
DTSTART:20260521T200000Z
DTEND:20260521T210000Z
X-MICROSOFT-CDO-ALLDAYEVENT:FALSE
SUMMARY:Ribbon Cutting Inflate and Celebrate Decor & More
DESCRIPTION:Ribbon Cutting for Inflate and Celebrate Decor & More
X-ALT-DESC;FMTTYPE=text/html:Ribbon Cutting for Inflate and Celebrate Decor &amp\; More
LOCATION:10117 Colonial Industrial Dr.\, South Lyon\, MI
UID:e.2463.48900
SEQUENCE:3
DTSTAMP:20260421T155740Z
URL:https://business.brightoncoc.org/events/details/ribbon-cutting-inflate-and-celebrate-decor-more-48900
END:VEVENT

END:VCALENDAR
