BEGIN:VCALENDAR
VERSION:2.0
PRODID:-//ChamberMaster//Event Calendar 2.0//EN
METHOD:PUBLISH
X-PUBLISHED-TTL:P3D
REFRESH-INTERVAL:P3D
CALSCALE:GREGORIAN
BEGIN:VEVENT
DTSTART:20240812T193000Z
DTEND:20240812T213000Z
X-MICROSOFT-CDO-ALLDAYEVENT:FALSE
SUMMARY:Marketing Mashup - Attract More Customers with Google Business
DESCRIPTION:Come on board for an in-depth exploration of Google Business & Local SEO! Discover the strategies to elevate your business listing\, boost your online visibility\, and captivate potential customers.\n\nWho should join us?\n\nEntrepreneurs\, marketing professionals\, individuals interested in deepening their understanding of Search Engine Optimization (SEO) and Google Business. Anyone interested in learning more about Google business to grow and generate more leads.\n\n\n\nPresenter: Sommer Poquette\, CEO and Founder of Keep it Real Social. She has received a Google Digital Garage Certification\, Google Digital Sales Certification and Google My Business Certification\, issued by Google. Her firm was awarded the #1 Professional Marketing Agency in Northern Michigan for the second year in a row. \n\nShe has spent over a decade working as a professional blogger\, social media consultant\, and online influencer.\n\nSommer has worked with award-winning PR and advertising firms on social media campaigns for large brands such as eBay\, Verizon Wireless\, Whirlpool\, Method\, and Stoneyfield Farms to name a few.\n\nShe has consulted with companies of all sizes and even commuted to Oakland County\, California\, for three years as a social media consultant for the Shaklee Company. The joke at Shaklee HQ was how she had the longest commute to work!\n\nAfter selling her Nielsen top-rated blog in 2018\, Sommer Poquette launched Keep it Real Social to help businesses of all sizes use social and digital media marketing successfully.\n\nSommer has received certifications from DigitalMarketer as a certified social media marketing specialist and content marketing specialist. She has also received a Google Digital Garage Certification\, Google Digital Sales Certification\, Google My Business Certification\, issued by Google. For more information on her qualifications\, education\, and experience\, visit LinkedIn.
X-ALT-DESC;FMTTYPE=text/html:<p style="margin-bottom: 10px\;"><strong>Come on board for an in-depth exploration of Google Business &amp\; Local SEO! </strong>Discover the strategies to elevate your business listing\, boost your online visibility\, and captivate potential customers.</p>\n\n<p><strong>Who should join us?</strong><br />\nEntrepreneurs\, marketing professionals\, individuals interested in deepening their understanding of Search Engine Optimization (SEO) and Google Business. Anyone interested in learning more about Google business to grow and generate more leads.<br />\n<br />\n<strong>Presenter:</strong> <strong>Sommer Poquette\, CEO and Founder of Keep it Real Social.&nbsp\;</strong><span style="color: rgb(102\, 102\, 102)\; font-family: &quot\;Open Sans&quot\;\, Arial\, sans-serif\; font-size: 14px\;">She has&nbsp\;received a Google Digital Garage Certification\, Google Digital Sales Certification and Google My Business Certification\, issued by Google.&nbsp\;</span><span style="color: rgb(102\, 102\, 102)\; font-family: &quot\;Open Sans&quot\;\, Arial\, sans-serif\; font-size: 14px\; text-align: center\;">Her firm&nbsp\;was awarded the #1 Professional Marketing Agency in Northern Michigan for the second year in a row.&nbsp\;</span></p>\n\n<p style="box-sizing: border-box\; margin: 0px\; padding: 0px 0px 1em\; border: 0px\; outline: 0px\; font-size: 14px\; text-size-adjust: 100%\; vertical-align: baseline\; background-image: initial\; background-position: initial\; background-size: initial\; background-repeat: initial\; background-attachment: initial\; background-origin: initial\; background-clip: initial\; color: rgb(102\, 102\, 102)\; font-family: &quot\;Open Sans&quot\;\, Arial\, sans-serif\;">She has spent over a decade working as a professional blogger\, social media consultant\, and online influencer.</p>\n\n<p style="box-sizing: border-box\; margin: 0px\; padding: 0px 0px 1em\; border: 0px\; outline: 0px\; font-size: 14px\; text-size-adjust: 100%\; vertical-align: baseline\; background-image: initial\; background-position: initial\; background-size: initial\; background-repeat: initial\; background-attachment: initial\; background-origin: initial\; background-clip: initial\; color: rgb(102\, 102\, 102)\; font-family: &quot\;Open Sans&quot\;\, Arial\, sans-serif\;">Sommer has worked with award-winning PR and advertising firms on social media campaigns for large brands such as eBay\, Verizon Wireless\, Whirlpool\, Method\, and Stoneyfield Farms&hellip\;to name a few.</p>\n\n<p style="box-sizing: border-box\; margin: 0px\; padding: 0px 0px 1em\; border: 0px\; outline: 0px\; font-size: 14px\; text-size-adjust: 100%\; vertical-align: baseline\; background-image: initial\; background-position: initial\; background-size: initial\; background-repeat: initial\; background-attachment: initial\; background-origin: initial\; background-clip: initial\; color: rgb(102\, 102\, 102)\; font-family: &quot\;Open Sans&quot\;\, Arial\, sans-serif\;">She has consulted with companies of all sizes and even commuted to Oakland County\, California\, for three years as a social media consultant for the Shaklee Company. The joke at Shaklee HQ was how she had the longest commute to work!</p>\n\n<p style="box-sizing: border-box\; margin: 0px\; padding: 0px 0px 1em\; border: 0px\; outline: 0px\; font-size: 14px\; text-size-adjust: 100%\; vertical-align: baseline\; background-image: initial\; background-position: initial\; background-size: initial\; background-repeat: initial\; background-attachment: initial\; background-origin: initial\; background-clip: initial\; color: rgb(102\, 102\, 102)\; font-family: &quot\;Open Sans&quot\;\, Arial\, sans-serif\;">After selling her Nielsen top-rated blog in 2018\, Sommer Poquette launched&nbsp\;Keep it Real Social&nbsp\;to help businesses of all sizes use social and digital media marketing successfully.</p>\n\n<p style="box-sizing: border-box\; margin: 0px\; padding: 0px\; border: 0px\; outline: 0px\; font-size: 14px\; text-size-adjust: 100%\; vertical-align: baseline\; background-image: initial\; background-position: initial\; background-size: initial\; background-repeat: initial\; background-attachment: initial\; background-origin: initial\; background-clip: initial\; color: rgb(102\, 102\, 102)\; font-family: &quot\;Open Sans&quot\;\, Arial\, sans-serif\;"><span data-preserver-spaces="true" style="box-sizing: border-box\; margin: 0px\; padding: 0px\; border: 0px\; outline: 0px\; text-size-adjust: 100%\; vertical-align: baseline\; background: transparent\;">Sommer has received certifications from DigitalMarketer as a certified social media marketing specialist and content marketing specialist. She has also received a Google Digital Garage Certification\, Google Digital Sales Certification\, Google My Business Certification\, issued by Google. For more information on her qualifications\, education\, and experience\, visit&nbsp\;</span><a class="_e75a791d-denali-editor-page-rtfLink" href="https://www.linkedin.com/in/sommerpoquette/" rel="noopener noreferrer" style="box-sizing: border-box\; margin: 0px\; padding: 0px\; border: 0px\; outline: 0px\; text-size-adjust: 100%\; vertical-align: baseline\; background: transparent\; color: rgb(29\, 97\, 171)\; text-decoration-line: none\;" target="_blank">LinkedIn</a><span data-preserver-spaces="true" style="box-sizing: border-box\; margin: 0px\; padding: 0px\; border: 0px\; outline: 0px\; text-size-adjust: 100%\; vertical-align: baseline\; background: transparent\;">.&nbsp\;</span></p>\n
LOCATION:Greater Brighton Area Chamber of Commerce 218 E. Grand River Brighton\, MI 48116
UID:e.2463.45120
SEQUENCE:3
DTSTAMP:20260424T102743Z
URL:https://business.brightoncoc.org/events/details/marketing-mashup-attract-more-customers-with-google-business-45120
END:VEVENT

END:VCALENDAR
