BEGIN:VCALENDAR
VERSION:2.0
PRODID:-//ChamberMaster//Event Calendar 2.0//EN
METHOD:PUBLISH
X-PUBLISHED-TTL:P3D
REFRESH-INTERVAL:P3D
CALSCALE:GREGORIAN
BEGIN:VEVENT
DTSTART:20260401T133000Z
DTEND:20260401T143000Z
X-MICROSOFT-CDO-ALLDAYEVENT:FALSE
SUMMARY:Lyon Area Referral Group
DESCRIPTION:Referral group members bring qualified leads to others in the group. \n\nContact: Nicole Dietrich at ndietrich@laketrust.org or Luke McCrary at lukemccrary@hartland insurance.com if you are interested in joining this group
X-ALT-DESC;FMTTYPE=text/html:Referral group members bring qualified leads to others in the group.&nbsp\;<br />\nContact: Nicole Dietrich at ndietrich@laketrust.org or Luke McCrary at lukemccrary@hartland insurance.com if you are interested in joining this group
LOCATION:Salem South Lyon District Library 9800 Pontiac Trail
UID:e.2463.45678
SEQUENCE:3
DTSTAMP:20260420T200446Z
URL:https://business.brightoncoc.org/events/details/lyon-area-referral-group-04-01-2026-45678
END:VEVENT

END:VCALENDAR
