BEGIN:VCALENDAR
VERSION:2.0
PRODID:-//ChamberMaster//Event Calendar 2.0//EN
METHOD:PUBLISH
X-PUBLISHED-TTL:P3D
REFRESH-INTERVAL:P3D
CALSCALE:GREGORIAN
BEGIN:VEVENT
DTSTART:20241029T210000Z
DTEND:20241029T230000Z
X-MICROSOFT-CDO-ALLDAYEVENT:FALSE
SUMMARY:Halloween Trivia Night
DESCRIPTION:Calling all Trivia Enthusiasts!  Grab friends\, family or RSVP yourself to join a team.  Guaranteed fun to have a chance to win prizes and fill up on a fall harvest dinner.  Call 248-264-9900 to reserve your spot!
X-ALT-DESC;FMTTYPE=text/html:Calling all Trivia Enthusiasts!&nbsp\; Grab friends\, family or RSVP yourself to join a team.&nbsp\; Guaranteed fun to have a chance to win prizes and fill up on a fall harvest dinner.&nbsp\; Call 248-264-9900 to reserve your spot!
LOCATION:
UID:e.2463.45636
SEQUENCE:3
DTSTAMP:20260423T144448Z
URL:https://business.brightoncoc.org/events/details/halloween-trivia-night-45636
END:VEVENT

END:VCALENDAR
