BEGIN:VCALENDAR
VERSION:2.0
PRODID:-//ChamberMaster//Event Calendar 2.0//EN
METHOD:PUBLISH
X-PUBLISHED-TTL:P3D
REFRESH-INTERVAL:P3D
CALSCALE:GREGORIAN
BEGIN:VEVENT
DTSTART:20330113T170000Z
DTEND:20330113T180000Z
X-MICROSOFT-CDO-ALLDAYEVENT:FALSE
SUMMARY:GBCOC Board Meeting
DESCRIPTION:
X-ALT-DESC;FMTTYPE=text/html:
LOCATION:
UID:e.2463.46604
SEQUENCE:3
DTSTAMP:20260423T152725Z
URL:https://business.brightoncoc.org/events/details/gbcoc-board-meeting-01-13-2033-46604
END:VEVENT

END:VCALENDAR
