BEGIN:VCALENDAR
VERSION:2.0
PRODID:-//ChamberMaster//Event Calendar 2.0//EN
METHOD:PUBLISH
X-PUBLISHED-TTL:P3D
REFRESH-INTERVAL:P3D
CALSCALE:GREGORIAN
BEGIN:VEVENT
DTSTART:20260504T170000Z
DTEND:20260504T180000Z
X-MICROSOFT-CDO-ALLDAYEVENT:FALSE
SUMMARY:Coffee Hour with Representative Ann Bollin
DESCRIPTION:Representative Ann Bollin hosts monthly coffee hours to listen to constituents' concerns and opinions. Constituents are encouraged to stop by anytime during the hour to chat with Rep. Bollin. For those residents unable to attend\, Rep. Bollin can be reached at 517-373-1784 or AnnBollin@house.mi.gov.
X-ALT-DESC;FMTTYPE=text/html:<span style="font-size:26px\;"><span style="color: rgb(51\, 51\, 51)\; font-family: sans-serif\, Arial\, Verdana\, &quot\;Trebuchet MS&quot\;\; background-color: rgb(255\, 255\, 255)\;">Representative Ann Bollin hosts monthly coffee hours to listen to constituents&#39\; concerns and opinions. Constituents are encouraged to stop by anytime during the hour to chat with Rep. Bollin. For those residents unable to attend\, Rep. Bollin can be reached at 517-373-1784 or AnnBollin@house.mi.gov.&nbsp\;</span></span>
LOCATION:GBACOC 218 E. Grand River Ave. Brighton\, MI 48116
UID:e.2463.49091
SEQUENCE:3
DTSTAMP:20260424T210450Z
URL:https://business.brightoncoc.org/events/details/coffee-hour-with-representative-ann-bollin-49091
END:VEVENT

END:VCALENDAR
