BEGIN:VCALENDAR
VERSION:2.0
PRODID:-//ChamberMaster//Event Calendar 2.0//EN
METHOD:PUBLISH
X-PUBLISHED-TTL:P3D
REFRESH-INTERVAL:P3D
CALSCALE:GREGORIAN
BEGIN:VEVENT
DTSTART:20250314T223000Z
DTEND:20250315T000000Z
X-MICROSOFT-CDO-ALLDAYEVENT:FALSE
SUMMARY:CCS Art Gallery & Fundraiser
DESCRIPTION:Join us for an evening of Art & Fundraising!
X-ALT-DESC;FMTTYPE=text/html:Join us for an evening of Art &amp\; Fundraising!
LOCATION:Celebration Center at Cornerstone Christian School 9455 Hilton Road in Brighton\, Michigan.
UID:e.2463.46321
SEQUENCE:3
DTSTAMP:20260422T002640Z
URL:https://business.brightoncoc.org/events/details/ccs-art-gallery-fundraiser-46321
END:VEVENT

END:VCALENDAR
