BEGIN:VCALENDAR
VERSION:2.0
PRODID:-//ChamberMaster//Event Calendar 2.0//EN
METHOD:PUBLISH
X-PUBLISHED-TTL:P3D
REFRESH-INTERVAL:P3D
CALSCALE:GREGORIAN
BEGIN:VEVENT
DTSTART:20160521T130000Z
DTEND:20160521T180000Z
X-MICROSOFT-CDO-ALLDAYEVENT:FALSE
SUMMARY:Annual Ride to Remember
DESCRIPTION:Rolling Thunder Inc. Chapter 5 Michigan\n\nAnnual Ride to Remember\n\n\n\nThis is a free ride to honor the fallen soldiers of Michigan & Gold Star Families.\n\n\n\nALL WELCOME\n\nRain or Shine
X-ALT-DESC;FMTTYPE=text/html:Rolling Thunder Inc. Chapter 5 Michigan<br />\nAnnual Ride to Remember<br />\n<br />\nThis is a free ride to honor the fallen soldiers of Michigan &amp\; Gold Star Families.<br />\n<br />\nALL WELCOME<br />\nRain or Shine<br />\n&nbsp\;
LOCATION:Staging @Striking Lanes Bowling 1535 Old US 23 Hartland\, MI at 9am Leaving Striking Lanes Bowling at 11am & ending in Howell at the Old Courthouse
UID:e.2463.5599
SEQUENCE:3
DTSTAMP:20260419T212002Z
URL:https://business.brightoncoc.org/events/details/annual-ride-to-remember-05-21-2016-5599
END:VEVENT

END:VCALENDAR
