BEGIN:VCALENDAR
VERSION:2.0
PRODID:-//ChamberMaster//Event Calendar 2.0//EN
METHOD:PUBLISH
X-PUBLISHED-TTL:P3D
REFRESH-INTERVAL:P3D
CALSCALE:GREGORIAN
BEGIN:VEVENT
DTSTART:20240628T143000Z
DTEND:20240628T183000Z
X-MICROSOFT-CDO-ALLDAYEVENT:FALSE
SUMMARY:Active Shooter ALICE Training
DESCRIPTION:The Livingston County Sheriff's Office offers a training program to help citizens respond to an active assailant event.\n\n\n\n\n\nOur program is available to public and private businesses\, schools\, places of worship\, and other locations within Livingston County. We incorporate concepts from both the A.L.I.C.E program (Alert\, Lockdown\, Inform\, Counter\, and Evacuate) and the C.R.A.S.E (Civilian Response to Active Shooter Events) course developed by A.L.E.R.R.T.\n\nPresentations typically run about four hours.
X-ALT-DESC;FMTTYPE=text/html:<div class="et_pb_module et_pb_text et_pb_text_1 intro-paragraph  et_pb_text_align_left et_pb_bg_layout_light" style="box-sizing: border-box\; margin: 0px 0px 48.9844px\; padding: 0px\; border: 0px\; outline: 0px\; font-size: 1.18em\; text-size-adjust: 100%\; vertical-align: baseline\; background: 50% center / cover no-repeat rgb(252\, 252\, 252)\; position: relative\; animation-timing-function: linear\; animation-duration: 0.2s\; overflow-wrap: break-word\; line-height: 1.5em\; color: rgb(0\, 0\, 0)\; font-family: Varta\, Helvetica\, Arial\, Lucida\, sans-serif\;">\n<div class="et_pb_text_inner" style="box-sizing: border-box\; margin: 0px\; padding: 0px\; border: 0px\; outline: 0px\; font-size: 20.06px\; text-size-adjust: 100%\; vertical-align: baseline\; background: transparent\; position: relative\;">\n<p style="box-sizing: border-box\; margin: 0px\; padding: 0px\; border: 0px\; outline: 0px\; font-size: 1.18em\; text-size-adjust: 100%\; vertical-align: baseline\; background: transparent\; line-height: 1.5em\;">The Livingston County Sheriff&rsquo\;s Office offers a training program to help citizens respond to an active assailant event.</p>\n</div>\n</div>\n\n<div class="et_pb_module et_pb_text et_pb_text_2  et_pb_text_align_left et_pb_bg_layout_light" style="box-sizing: border-box\; margin: 0px 0px 48.9844px\; padding: 0px\; border: 0px\; outline: 0px\; font-size: 17px\; text-size-adjust: 100%\; vertical-align: baseline\; background: 50% center / cover no-repeat rgb(252\, 252\, 252)\; position: relative\; animation-timing-function: linear\; animation-duration: 0.2s\; overflow-wrap: break-word\; color: rgb(0\, 0\, 0)\; font-family: Varta\, Helvetica\, Arial\, Lucida\, sans-serif\;">\n<div class="et_pb_text_inner" style="box-sizing: border-box\; margin: 0px\; padding: 0px\; border: 0px\; outline: 0px\; text-size-adjust: 100%\; vertical-align: baseline\; background: transparent\; position: relative\;">\n<p style="box-sizing: border-box\; margin: 0px\; padding: 0px 0px 1em\; border: 0px\; outline: 0px\; text-size-adjust: 100%\; vertical-align: baseline\; background: transparent\;">Our program is available to public and private businesses\, schools\, places of worship\, and other locations within Livingston County. We incorporate concepts from both the A.L.I.C.E program (Alert\, Lockdown\, Inform\, Counter\, and Evacuate) and the C.R.A.S.E (Civilian Response to Active Shooter Events) course developed by A.L.E.R.R.T.</p>\n\n<p style="box-sizing: border-box\; margin: 0px\; padding: 0px\; border: 0px\; outline: 0px\; text-size-adjust: 100%\; vertical-align: baseline\; background: transparent\;">Presentations typically run about four hours.</p>\n</div>\n</div>\n
LOCATION:The Greater Brighton Area Chamber of Commerce Conference Center 218 E. Grand River Ave. Brighton\, MI 48116
UID:e.2463.45119
SEQUENCE:3
DTSTAMP:20260420T090836Z
URL:https://business.brightoncoc.org/events/details/active-shooter-alice-training-45119
END:VEVENT

END:VCALENDAR
