BEGIN:VCALENDAR
VERSION:2.0
PRODID:-//ChamberMaster//Event Calendar 2.0//EN
METHOD:PUBLISH
X-PUBLISHED-TTL:P3D
REFRESH-INTERVAL:P3D
CALSCALE:GREGORIAN
BEGIN:VEVENT
DTSTART:20260501T210000Z
DTEND:20260501T220000Z
X-MICROSOFT-CDO-ALLDAYEVENT:FALSE
SUMMARY:5:01 Networking Event Brighton Center for the Performing Arts
DESCRIPTION:5:01 Networking Event before the 6pm Meet and Great BAS Pack of Dogs
X-ALT-DESC;FMTTYPE=text/html:5:01 Networking Event before the 6pm Meet and Great BAS Pack of Dogs
LOCATION:7878 Brighton Rd.\, Brighton\, MI Brighton Highschool campus\, Main entrance at door #7
UID:e.2463.49086
SEQUENCE:3
DTSTAMP:20260420T233057Z
URL:https://business.brightoncoc.org/events/details/5-01-networking-event-brighton-center-for-the-performing-arts-49086
END:VEVENT

END:VCALENDAR
