BEGIN:VCALENDAR
VERSION:2.0
PRODID:-//ChamberMaster//Event Calendar 2.0//EN
METHOD:PUBLISH
X-PUBLISHED-TTL:P3D
REFRESH-INTERVAL:P3D
CALSCALE:GREGORIAN
BEGIN:VEVENT
DTSTART:20260422T160000Z
DTEND:20270423T010000Z
X-MICROSOFT-CDO-ALLDAYEVENT:FALSE
SUMMARY:2026 Lyon Area McHattie Park July 10 Food Truck
DESCRIPTION:The McHattie Park "Tunes\, Trucks & Family Festival" is an exciting new community celebration designed to kick off the summer season and launch the beloved Music in the Park series in McHattie Park. This high-energy\, family-friendly event brings together live music\, a curated lineup of food trucks\, and interactive activities for all ages in a vibrant outdoor setting.\n\nGuests can enjoy an evening filled with great tunes from local and regional bands\, a wide variety of food truck favorites from classic comfort foods to unique specialty bites and a welcoming atmosphere that encourages families\, friends\, and neighbors to gather and connect. Kids' activities\, lawn games\, and open green space make it easy for attendees to relax\, play\, and create lasting memories.\n\nAs the official kickoff to the summer concert series\, "Tunes\, Trucks & Family Festival" sets the tone for a season of community engagement\, entertainment\, and local pride. Whether you're coming for the music\, the food\, or the fun\, this event offers something for everyone and highlights the spirit of South Lyon at its best.\n\n\n\nPlenty of opportunities for business to sponsor and participate.
X-ALT-DESC;FMTTYPE=text/html:<p data-end="396" data-start="0">The <strong data-end="55" data-start="4">McHattie Park &ldquo\;Tunes\, Trucks &amp\; Family Festival&rdquo\;</strong> is an exciting new community celebration designed to kick off the summer season and launch the beloved Music in the Park series in <span class="hover:entity-accent entity-underline inline cursor-pointer align-baseline">McHattie Park</span>. This high-energy\, family-friendly event brings together live music\, a curated lineup of food trucks\, and interactive activities for all ages in a vibrant outdoor setting.</p>\n\n<p data-end="794" data-start="398">Guests can enjoy an evening filled with great tunes from local and regional bands\, a wide variety of food truck favorites&mdash\;from classic comfort foods to unique specialty bites&mdash\;and a welcoming atmosphere that encourages families\, friends\, and neighbors to gather and connect. Kids&rsquo\; activities\, lawn games\, and open green space make it easy for attendees to relax\, play\, and create lasting memories.</p>\n\n<p data-end="1120" data-is-last-node="" data-is-only-node="" data-start="796">As the official kickoff to the summer concert series\, &ldquo\;Tunes\, Trucks &amp\; Family Festival&rdquo\; sets the tone for a season of community engagement\, entertainment\, and local pride. Whether you&rsquo\;re coming for the music\, the food\, or the fun\, this event offers something for everyone and highlights the spirit of South Lyon at its best.<br />\n<br />\nPlenty of opportunities for business to sponsor and participate.</p>\n
LOCATION:See you at McHattie Park by the gazebo!
UID:e.2463.49088
SEQUENCE:3
DTSTAMP:20260422T200722Z
URL:https://business.brightoncoc.org/events/details/2026-lyon-area-mchattie-park-july-10-food-truck-49088
END:VEVENT

END:VCALENDAR
