BEGIN:VCALENDAR
VERSION:2.0
PRODID:-//ChamberMaster//Event Calendar 2.0//EN
METHOD:PUBLISH
X-PUBLISHED-TTL:P3D
REFRESH-INTERVAL:P3D
CALSCALE:GREGORIAN
BEGIN:VEVENT
DTSTART:20260620T160000Z
DTEND:20260621T020000Z
X-MICROSOFT-CDO-ALLDAYEVENT:FALSE
SUMMARY:2026 Brighton Country Boots & Beats
DESCRIPTION:The Greater Brighton Area Chamber of Commerce invites you to \n\n  Brighton's Country Boots & Beats Festival  \n\nJoin us Saturday\, June 20\, 2026\, in downtown Brighton for a day filled with live country music\, great food\, and family fun!\n\n  Live Bands at the AMP starting at 12:00 PM\n\n  Food Trucks & Local Bars/Restaurants\n\n  Country-Themed Activities & Fun for All Ages\n\n  Boot-Scootin' Entertainment & More!\n\nSave the date and get ready for a boot-stompin' good time! Stay tuned for more details.\n\n#BootsAndBeatsBrighton #CountryMusicFestival #DowntownBrighton\n\n\n\nNon-Food Vendor Application Steps\n\n1.  Complete the Vendor Application Form found here: http://business.brightoncoc.org/form/view/38712\n\n2. Click the register button to the RIGHT or click here and  pay the non-refundable fee of $25.00. Credit Card ONLY. \n\n3.  A member of our staff will review your application .\n\n4.  Once approved\, you will receive an email or contact from our staff directing you for additional sign up and payment.\n\n\n\nFood/Alcohol Vendor Application Steps\n\n1.  Complete the Food/Alcohol Vendor Application Form Here: http://business.brightoncoc.org/form/view/38711\n\n2. Click the REGISTER button to pay the non-refundable application fee of $25 or click here.   Credit Card ONLY! \n\n3.  A member of our staff will review your application.\n\n4.  Once approved\, you will receive an email or contact from our staff directing you for additional sign up and payment.\n\n\n\nEvent Sponsorship Opportunities Steps\n\n1. Here is a link to the current Country Boots and Beats partnership opportunities.  Take a look over the levels of sponsorship that we have created. \n\n2. Contact Jennifer Bond\, Events and Sponsorship Director at JenniferB@brightoncoc.org 810-227-5086\, and we can discuss the best way your business/organization can partner and support this great community festival. \n\n3.  You will be invoiced for your sponsorship\, and we will work with you to make sure we maximize the partnership!
X-ALT-DESC;FMTTYPE=text/html:<p><strong>The Greater Brighton Area Chamber of Commerce invites you to&nbsp\;</strong><br />\n&#127926\; <strong>Brighton&#39\;s Country Boots &amp\; Beats Festival</strong> &#129312\;</p>\n\n<p>Join us <strong>Saturday\, June 20\, 2026</strong>\, in <strong>downtown Brighton</strong> for a day filled with <strong>live country music\, great food\, and family fun!</strong></p>\n\n<p>&#127928\; <strong>Live Bands</strong> at the AMP starting at 12:00 PM<br />\n&#127828\; <strong>Food Trucks &amp\; Local Bars/Restaurants</strong><br />\n&#129312\; <strong>Country-Themed Activities &amp\; Fun for All Ages</strong><br />\n&#128098\; <strong>Boot-Scootin&#39\;&nbsp\;Entertainment &amp\; More!</strong></p>\n\n<p>Save the date and get ready for a <strong>boot-stompin&#39\;&nbsp\;good time!</strong> Stay tuned for more details.</p>\n\n<p>#BootsAndBeatsBrighton #CountryMusicFestival #DowntownBrighton<br />\n<br />\n<span style="font-size:16px\;"><span style="font-family:times new roman\;"><strong><u>Non-Food Vendor Application Steps</u><br />\n<span style="color:#008000\;">1.&nbsp\; Complete the Vendor Application Form found&nbsp\;here:&nbsp\;</span></strong></span><a href="http://business.brightoncoc.org/form/view/38712">http://business.brightoncoc.org/form/view/38712</a><br />\n<span style="font-family:times new roman\;"><strong><span style="color:#008000\;">2. Click the register button to the RIGHT or click <a href="https://brightoncocmi.chambermaster.com/eventregistration/register/48589">here</a> and &nbsp\;pay the non-refundable fee of $25.00. Credit Card ONLY.&nbsp\;<br />\n3.&nbsp\; A member of our staff will review&nbsp\;your application .</span><br />\n<span style="color:#008000\;">4.&nbsp\; Once approved\, you will receive an email or contact from our staff directing you for additional sign up and payment.</span><br />\n<br />\n<u>Food/Alcohol Vendor Application Steps</u><br />\n<span style="color:#008000\;">1.&nbsp\; Complete the Food/Alcohol Vendor Application Form Here:</span></strong></span><a href="http://business.brightoncoc.org/form/view/38711"><span style="color:#0000CD\;">&nbsp\;</span></a><span style="font-family:arial\;"><a href="http://business.brightoncoc.org/form/view/38711"><span style="color:#0000CD\;">http://business.brightoncoc.org/form/view/38711</span></a></span><br />\n<span style="font-family:times new roman\;"><strong><span style="color:#008000\;">2.&nbsp\;</span></strong></span><strong font-size:="" new="" style="font-family: " times=""><span style="color: rgb(0\, 128\, 0)\;">Click the REGISTER button to pay the non-refundable application fee of $25 or click <a href="https://brightoncocmi.chambermaster.com/eventregistration/register/48589">here</a>.&nbsp\;&nbsp\; Credit Card ONLY!&nbsp\;</span></strong><br />\n<span style="font-family:times new roman\;"><strong><span style="color:#008000\;">3.&nbsp\; A member of our staff will review your application.<br />\n4.&nbsp\;&nbsp\;Once approved\, you will receive an email or contact from our staff directing you for additional sign up and payment.</span><br />\n<br />\n<u>Event Sponsorship Opportunities Steps</u><br />\n<span style="color:#008000\;">1. Here is a <a href="https://brightoncoc-my.sharepoint.com/:b:/g/personal/jenniferb_brightoncoc_org/IQBVQpBgvc3eQp9JpzRVEsHlAehye56ng7puRFfno6b52wA?e=IoowuP">link </a>to the current Country Boots and Beats partnership opportunities.&nbsp\; Take a look over the levels of sponsorship that we have created.&nbsp\;<br />\n2. Contact Jennifer Bond\, Events and Sponsorship Director at JenniferB@brightoncoc.org 810-227-5086\, and we can discuss the best way your business/organization can partner and support this great community festival.&nbsp\;<br />\n3.&nbsp\; You will be invoiced for your sponsorship\, and we will work with you to make sure we maximize the partnership!&nbsp\;</span></strong></span></span></p>\n
LOCATION:Downtown Brighton - Main Street Live music at The AMP at Mill Pond
UID:e.2463.48589
SEQUENCE:3
DTSTAMP:20260420T201725Z
URL:https://business.brightoncoc.org/events/details/2026-brighton-country-boots-beats-48589
END:VEVENT

END:VCALENDAR
