BEGIN:VCALENDAR
VERSION:2.0
PRODID:-//ChamberMaster//Event Calendar 2.0//EN
METHOD:PUBLISH
X-PUBLISHED-TTL:P3D
REFRESH-INTERVAL:P3D
CALSCALE:GREGORIAN
BEGIN:VEVENT
DTSTART:20250719T143000Z
DTEND:20250719T173000Z
X-MICROSOFT-CDO-ALLDAYEVENT:FALSE
SUMMARY:2025 Mellus Hospital Heritage Day - Brighton\, MI
DESCRIPTION:Mellus Hospital Heritage Day - Register on the Right! \n\nThe Brighton Area Historical Society\, in proud partnership with the Greater Brighton Area Chamber of Commerce and Trinity Health\, invites you to a heartfelt celebration:\n\n\n\nMellus Hospital Heritage Day! We will walk through time\, chat with historians\, guided tours\, learn about the rich history of Mellus. \n\n\n\nLight refreshments\, personalized gift included in the registration fee. \n\nJoin us as we honor the rich history and lasting legacy of Mellus Hospital a cornerstone of care\, connection\, and community in Brighton since 1931. Constructed by Dr. Horace Mellus\, the iconic two-story Georgian-style building perched on the hill just north of downtown was Brighton's first official hospital and a symbol of progress and compassion.\n\nThis special event highlights the spirit of service and the enduring connections between our town's past and present. Our celebration will be elevated by keynote speaker Dave LewAllen\, Brighton High School graduate\, Mellus Hospital baby\, and retired Channel 7 News anchor who brings both personal insight and professional storytelling to the stage.\n\nWe are also honored to welcome John O'Malley\, President of Trinity Health Livingston\, who will share a few words on the continued legacy of healthcare and community support in our region.\n\nWe hope you will join us for this meaningful day of remembrance\, recognition\, and community pride.\n\n\n\nTours\, historical chats\, meet those that have the rich history of Brighton. \n\n\n\nCalling All MELLUS HOSPITAL CONNECTIONS: \n\nShare Your Mellus Hospital Connection\n\nWere you born at Mellus Hospital? Did you work there\, receive care\, or have a loved one who did? Do you have photos\, stories\, or memorabilia connected to the hospital's history?\n\nWe are gathering personal stories\, records\, and memories from anyone with a connection to Mellus Hospital to help preserve its legacy in our community.\n\nPlease fill out the form below with your name\, email\, phone number\, address\, and a brief description of your connection to Mellus Hospital. We'd love to hear from you!\n\nCLICK HERE:\n\nhttp://business.brightoncoc.org/form/view/36213
X-ALT-DESC;FMTTYPE=text/html:<div class="flex max-w-full flex-col flex-grow">\n<div class="min-h-8 text-message flex w-full flex-col items-end gap-2 whitespace-normal break-words text-start [.text-message+&amp\;]:mt-5" data-message-author-role="assistant" data-message-id="9f72033b-ea3d-4f78-8fd2-2524b3f349bc" data-message-model-slug="gpt-4o" dir="auto">\n<div class="flex w-full flex-col gap-1 empty:hidden first:pt-[3px]">\n<div class="markdown prose w-full break-words dark:prose-invert light">\n<p><u><span style="font-size:36px\;"><span style="font-family:times new roman\;"><strong>Mellus Hospital Heritage Day - Register on the Right!&nbsp\;</strong></span></span></u></p>\n\n<p><span style="font-size:20px\;"><strong>The Brighton Area Historical Society</strong>\, in proud partnership with the <strong>Greater Brighton Area Chamber of Commerce</strong> and <strong>Trinity Health</strong>\, invites you to a heartfelt celebration:<br />\n<br />\n<strong>Mellus Hospital Heritage Day! We will walk through time\, chat with historians\, guided tours\, learn about the rich history of Mellus.&nbsp\;<br />\n<br />\nLight refreshments\, personalized gift included in the registration fee.&nbsp\;</strong></span></p>\n\n<p><span style="font-size:20px\;">Join us as we honor the rich history and lasting legacy of Mellus Hospital&nbsp\;a cornerstone of care\, connection\, and community in Brighton since 1931. Constructed by Dr. Horace Mellus\, the iconic two-story Georgian-style building perched on the hill just north of downtown was Brighton&#39\;s first official hospital and a symbol of progress and compassion.</span></p>\n\n<p><span style="font-size:20px\;">This special event highlights the spirit of service and the enduring connections between our town&#39\;s past and present. Our celebration will be elevated by keynote speaker <strong>Dave LewAllen\,</strong>&nbsp\;Brighton High School graduate\, Mellus Hospital baby\, and retired Channel 7 News anchor&nbsp\;who brings both personal insight and professional storytelling to the stage.</span></p>\n\n<p><span style="font-size:20px\;">We are also honored to welcome <strong>John O&#39\;Malley</strong>\, President of Trinity Health Livingston\, who will share a few words on the continued legacy of healthcare and community support in our region.</span></p>\n\n<p><span style="font-size:20px\;">We hope you will join us for this meaningful day of remembrance\, recognition\, and community pride.<br />\n<br />\nTours\, historical chats\, meet those that have the rich history of Brighton.&nbsp\;</span><br />\n<br />\n<span style="font-size:36px\;">Calling All MELLUS HOSPITAL CONNECTIONS:&nbsp\;</span><br />\n<span style="font-size:26px\;"><strong>Share Your Mellus Hospital Connection</strong><br />\nWere you born at Mellus Hospital? Did you work there\, receive care\, or have a loved one who did? Do you have photos\, stories\, or memorabilia connected to the hospital&#39\;s history?</span></p>\n\n<p><span style="font-size:26px\;">We are gathering personal stories\, records\, and memories from anyone with a connection to Mellus Hospital to help preserve its legacy in our community.</span></p>\n\n<p><span style="font-size:26px\;">Please fill out the form below with your name\, email\, phone number\, address\, and a brief description of your connection to Mellus Hospital. We&#39\;d love to hear from you!<br />\nCLICK HERE:<br />\n<a href="http://business.brightoncoc.org/form/view/36213">http://business.brightoncoc.org/form/view/36213</a></span></p>\n</div>\n</div>\n</div>\n</div>\n
LOCATION:Greater Brighton Area Chamber of Commerce 218 E. Grand River Ave. Brighton\, MI 48116
UID:e.2463.46311
SEQUENCE:3
DTSTAMP:20260420T200828Z
URL:https://business.brightoncoc.org/events/details/2025-mellus-hospital-heritage-day-brighton-mi-46311
END:VEVENT

END:VCALENDAR
