BEGIN:VCALENDAR
VERSION:2.0
PRODID:-//ChamberMaster//Event Calendar 2.0//EN
METHOD:PUBLISH
X-PUBLISHED-TTL:P3D
REFRESH-INTERVAL:P3D
CALSCALE:GREGORIAN
BEGIN:VEVENT
DTSTART;VALUE=DATE:20270504
DTEND;VALUE=DATE:20270505
TRANSP:TRANSPARENT
X-MICROSOFT-CDO-ALLDAYEVENT:TRUE
SUMMARY:1st Annual Heterotaxy Awareness Syndrome 2-Mile Walk
DESCRIPTION:The 1st Annual Heterotaxy Syndrome Awareness 2-Mile Walk\, hosted by Malachi's House of Hope\, is a community event dedicated to raising awareness\, honoring families\, and supporting children affected by Heterotaxy Syndrome   a rare and complex congenital condition that impacts the arrangement and function of internal organs.\n\nHeld at The AMP in Brighton\, Michigan\, this event brings together families\, medical professionals\, advocates\, and community partners for a morning of unity\, education\, and hope. Participants will walk a two-mile route designed to symbolize the journey that families navigate through diagnosis\, treatment\, and ongoing care.\n\nThe event features:\n\n\n	\n	Resource and education stations to help families understand Heterotaxy Syndrome\n	\n	\n	Recognition moments honoring children and families impacted by rare congenital conditions\n	\n	\n	Community engagement activities to build connection and support\n	\n	\n	Fundraising opportunities that directly support Malachi's House of Hope programs\, including trauma-informed care kits\, family support services\, and outreach to pediatric medical centers\n	\n\n\nThis walk serves as both a tribute and a call to action   raising visibility for a condition that is often misunderstood\, while empowering families with compassion\, resources\, and community support. It also establishes a foundation for continued advocacy and an annual tradition of awareness and hope.
X-ALT-DESC;FMTTYPE=text/html:<p>The <strong>1st Annual Heterotaxy Syndrome Awareness 2-Mile Walk</strong>\, hosted by <strong>Malachi&rsquo\;s House of Hope</strong>\, is a community event dedicated to raising awareness\, honoring families\, and supporting children affected by Heterotaxy Syndrome &mdash\; a rare and complex congenital condition that impacts the arrangement and function of internal organs.</p>\n\n<p>Held at <strong>The AMP in Brighton\, Michigan</strong>\, this event brings together families\, medical professionals\, advocates\, and community partners for a morning of unity\, education\, and hope. Participants will walk a two-mile route designed to symbolize the journey that families navigate through diagnosis\, treatment\, and ongoing care.</p>\n\n<p>The event features:</p>\n\n<ul>\n	<li>\n	<p><strong>Resource and education stations</strong> to help families understand Heterotaxy Syndrome</p>\n	</li>\n	<li>\n	<p><strong>Recognition moments</strong> honoring children and families impacted by rare congenital conditions</p>\n	</li>\n	<li>\n	<p><strong>Community engagement activities</strong> to build connection and support</p>\n	</li>\n	<li>\n	<p><strong>Fundraising opportunities</strong> that directly support Malachi&rsquo\;s House of Hope programs\, including trauma-informed care kits\, family support services\, and outreach to pediatric medical centers</p>\n	</li>\n</ul>\n\n<p>This walk serves as both a tribute and a call to action &mdash\; raising visibility for a condition that is often misunderstood\, while empowering families with compassion\, resources\, and community support. It also establishes a foundation for continued advocacy and an annual tradition of awareness and hope.</p>\n
LOCATION:The AMP in Brighton\, Michigan
UID:e.2463.48731
SEQUENCE:3
DTSTAMP:20260420T201643Z
URL:https://business.brightoncoc.org/events/details/1st-annual-heterotaxy-awareness-syndrome-2-mile-walk-05-04-2027-48731
END:VEVENT

END:VCALENDAR
